BEGIN:VCALENDAR
VERSION:2.0
PRODID: -//Ximian//NONSGML Evolution Calendar//EN
CALSCALE:GREGORIAN
METHOD:PUBLISH
BEGIN:VEVENT
UID:69e69c320477c3.67153845@myapp
DTSTAMP:20260420T213546Z
DTSTART:20241012T140000Z
DTEND:20241012T150000Z
SUMMARY: Музыкальный спектакль «Царевна-лягушка»
DESCRIPTION: Дворец культуры «Дружба» в Чехове приглашает 12 октября на музыкальный спектакль «Царевна-лягушка», который представит Московская областная филармония.
LOCATION: Дворец культуры «Дружба»
END:VEVENT
END:VCALENDAR
