BEGIN:VCALENDAR
VERSION:2.0
PRODID: -//Ximian//NONSGML Evolution Calendar//EN
CALSCALE:GREGORIAN
METHOD:PUBLISH
BEGIN:VEVENT
UID:69e5e67751c7e9.69323991@myapp
DTSTAMP:20260420T084023Z
DTSTART:20241020T120000Z
DTEND:20241020T133000Z
SUMMARY: Концерт Жуковского симфонического оркестра
DESCRIPTION: На сцене Дворца культуры 20 октября состоится концерт Жуковского симфонического оркестра, посвященный 75-летию художественного руководителя коллектива С.И. Скрипки.
LOCATION: Дворец культуры г. Жуковского
END:VEVENT
END:VCALENDAR
