BEGIN:VCALENDAR
VERSION:2.0
PRODID: -//Ximian//NONSGML Evolution Calendar//EN
CALSCALE:GREGORIAN
METHOD:PUBLISH
BEGIN:VEVENT
UID:69e4c6524c26b8.16003859@myapp
DTSTAMP:20260419T121058Z
DTSTART:20241204T160000Z
DTEND:20241204T180000Z
SUMMARY: Концерт «Хор Турецкого. Лучшее»
DESCRIPTION: В Мытищинском Дворце культуры «Яуза» 4 декабря состоится концерт «Хор Турецкого. Лучшее». Зрителей ждут феерические голоса, любимые хиты, яркие образы артистов и душевное общение со зрителями.
LOCATION: Мытищинский Дворец культуры «Яуза»
END:VEVENT
END:VCALENDAR
