BEGIN:VCALENDAR
VERSION:2.0
PRODID: -//Ximian//NONSGML Evolution Calendar//EN
CALSCALE:GREGORIAN
METHOD:PUBLISH
BEGIN:VEVENT
UID:69e8f633397dd1.82219027@myapp
DTSTAMP:20260422T162419Z
DTSTART:20250111T090000Z
DTEND:20250111T123000Z
SUMMARY: Парад саней и тюбингов в Домодедове
DESCRIPTION: Семейный парад-конкурс саней и тюбингов пройдет 11 января в парке «Городской лес» в Домодедово.
LOCATION: Парк «Городской лес»
END:VEVENT
END:VCALENDAR
