BEGIN:VCALENDAR
VERSION:2.0
PRODID: -//Ximian//NONSGML Evolution Calendar//EN
CALSCALE:GREGORIAN
METHOD:PUBLISH
BEGIN:VEVENT
UID:69eb5dac9c1e64.01808972@myapp
DTSTAMP:20260424T121020Z
DTSTART:20250119T130000Z
DTEND:20250119T140000Z
SUMMARY: Танцевально-акробатическое представление «Рождество в Хогвартсе»
DESCRIPTION: Центр дополнительного образования «Перекресток» в Ступине приглашает 19 января на танцевально-акробатическую сказку «Рождество в Хогвартсе», которая перенесет вас в волшебный мир знаменитой школы чародейства и волшебства.
LOCATION: Дворец культуры г. Ступино
END:VEVENT
END:VCALENDAR
