BEGIN:VCALENDAR
VERSION:2.0
PRODID: -//Ximian//NONSGML Evolution Calendar//EN
CALSCALE:GREGORIAN
METHOD:PUBLISH
BEGIN:VEVENT
UID:69e5c704e53b70.79494873@myapp
DTSTAMP:20260420T062612Z
DTSTART:20250118T090000Z
DTEND:20250118T110000Z
SUMMARY: Мероприятие «Ледяное искусство» в Сергиевом Посаде
DESCRIPTION: Парк «Скитские пруды» в Сергиевом Посаде 18 января приглашает на спортивно-развлекательное мероприятие «Ледяное искусство». В программе праздника – множество интересных активностей на свежем воздухе, которые подарят вам заряд бодрости и положительных эмоций.
LOCATION: Парк «Скитские пруды»
END:VEVENT
END:VCALENDAR
