BEGIN:VCALENDAR
VERSION:2.0
PRODID: -//Ximian//NONSGML Evolution Calendar//EN
CALSCALE:GREGORIAN
METHOD:PUBLISH
BEGIN:VEVENT
UID:69e80d83c32af4.65435007@myapp
DTSTAMP:20260421T235131Z
DTSTART:20250426T140000Z
DTEND:20250426T153000Z
SUMMARY: Спектакль «Маяковский против Есенина»
DESCRIPTION: На сцене Звенигородского манежа 26 апреля состоится спектакль «Маяковский против Есенина».
LOCATION: Звенигородский манеж
END:VEVENT
END:VCALENDAR
