BEGIN:VCALENDAR
VERSION:2.0
PRODID: -//Ximian//NONSGML Evolution Calendar//EN
CALSCALE:GREGORIAN
METHOD:PUBLISH
BEGIN:VEVENT
UID:69e5e655d266c1.16442081@myapp
DTSTAMP:20260420T083949Z
DTSTART;VALUE=DATE:20250523
DTEND;VALUE=DATE:20250721
SUMMARY: Выставка «Водный туризм – залог здоровья»
DESCRIPTION: В музее-заповеднике «Абрамцево» с 23 мая начнет работать выставка «Водный туризм – залог здоровья», посвященная 80-летию Петра Пророкова.
LOCATION: Государственный историко-художественный и литературный музей-заповедник «Абрамцево»
END:VEVENT
END:VCALENDAR
