BEGIN:VCALENDAR
VERSION:2.0
PRODID: -//Ximian//NONSGML Evolution Calendar//EN
CALSCALE:GREGORIAN
METHOD:PUBLISH
BEGIN:VEVENT
UID:69eb9affd4d424.86995802@myapp
DTSTAMP:20260424T163159Z
DTSTART;VALUE=DATE:20220423
DTEND;VALUE=DATE:20220504
SUMMARY: Празднование Пасхи в парке «Патриот»
DESCRIPTION: С 23 апреля по 3 мая в музейно-храмовом комплексе ВС РФ Минобороны России пройдет празднование Светлой Пасхи и фестиваль хорового пения.
LOCATION: Парк «Патриот»
END:VEVENT
END:VCALENDAR
