BEGIN:VCALENDAR
VERSION:2.0
PRODID: -//Ximian//NONSGML Evolution Calendar//EN
CALSCALE:GREGORIAN
METHOD:PUBLISH
BEGIN:VEVENT
UID:69ea371b83d9e3.62517094@myapp
DTSTAMP:20260423T151331Z
DTSTART:20250824T160000Z
DTEND:20250824T180000Z
SUMMARY: Сольный концерт Гелы Гуралиа
DESCRIPTION: В Истринском Доме культуры 24 августа выступит Гела Гуралиа – харизматичный и яркий певец с уникальным голосом тенор-альтино, звезда телепроекта «Голос-2».
LOCATION: Истринский Дом культуры 
END:VEVENT
END:VCALENDAR
