BEGIN:VCALENDAR
VERSION:2.0
PRODID: -//Ximian//NONSGML Evolution Calendar//EN
CALSCALE:GREGORIAN
METHOD:PUBLISH
BEGIN:VEVENT
UID:69e908688ef617.47275365@myapp
DTSTAMP:20260422T174200Z
DTSTART;VALUE=DATE:20220521
DTEND;VALUE=DATE:20220523
SUMMARY: Фестиваль-выставка караванеров и автопутешественников Caravanex 2022
DESCRIPTION: Мероприятие пройдет в Коломне 21 и 22 мая.
LOCATION: Арт-квартал «Патефонка»
END:VEVENT
END:VCALENDAR
