BEGIN:VCALENDAR
VERSION:2.0
PRODID: -//Ximian//NONSGML Evolution Calendar//EN
CALSCALE:GREGORIAN
METHOD:PUBLISH
BEGIN:VEVENT
UID:69e8271320f477.26987337@myapp
DTSTAMP:20260422T014035Z
DTSTART:20220528T080000Z
DTEND:20220528T170000Z
SUMMARY: Конкурс вокального искусства «Алябьевский соловей»
DESCRIPTION: Областной конкурс вокального искусства «Алябьевский соловей» в этом году пройдет уже в 25-й раз. Гостей ждет 28 мая 2022 года в городском округе Щелково.
LOCATION: Историко-краеведческий музей «Усадьба Фряново» 
END:VEVENT
END:VCALENDAR
