BEGIN:VCALENDAR
VERSION:2.0
PRODID: -//Ximian//NONSGML Evolution Calendar//EN
CALSCALE:GREGORIAN
METHOD:PUBLISH
BEGIN:VEVENT
UID:69ecb11d399382.62795330@myapp
DTSTAMP:20260425T121837Z
DTSTART;VALUE=DATE:20210226
DTEND;VALUE=DATE:20211002
SUMMARY: Выставка «Старый мотив железной дороги»
DESCRIPTION: Экспозиция приурочена к 170-летию Николаевской железной дороги.
LOCATION: Клинский краеведческий музей
END:VEVENT
END:VCALENDAR
